BEGIN:VCALENDAR
VERSION:2.0
PRODID:-//Napier Boys&#039; High School - ECPv6.8.3//NONSGML v1.0//EN
CALSCALE:GREGORIAN
METHOD:PUBLISH
X-ORIGINAL-URL:https://www.nbhs.school.nz
X-WR-CALDESC:Events for Napier Boys&#039; High School
REFRESH-INTERVAL;VALUE=DURATION:PT1H
X-Robots-Tag:noindex
X-PUBLISHED-TTL:PT1H
BEGIN:VTIMEZONE
TZID:Pacific/Auckland
BEGIN:STANDARD
TZOFFSETFROM:+1300
TZOFFSETTO:+1200
TZNAME:NZST
DTSTART:20250405T140000
END:STANDARD
BEGIN:DAYLIGHT
TZOFFSETFROM:+1200
TZOFFSETTO:+1300
TZNAME:NZDT
DTSTART:20250927T140000
END:DAYLIGHT
BEGIN:STANDARD
TZOFFSETFROM:+1300
TZOFFSETTO:+1200
TZNAME:NZST
DTSTART:20260404T140000
END:STANDARD
BEGIN:DAYLIGHT
TZOFFSETFROM:+1200
TZOFFSETTO:+1300
TZNAME:NZDT
DTSTART:20260926T140000
END:DAYLIGHT
END:VTIMEZONE
BEGIN:VEVENT
DTSTART;TZID=Pacific/Auckland:20250910T180000
DTEND;TZID=Pacific/Auckland:20250910T200000
DTSTAMP:20260423T100244
CREATED:20250813T234124Z
LAST-MODIFIED:20250813T234124Z
UID:8592-1757527200-1757534400@www.nbhs.school.nz
SUMMARY:TUIA 2025
DESCRIPTION:Wednesday 10th September 2025 \n6pm – 8pm  \nNBHS School Hall  \nNau mai haere mai\, welcome to our very own Napier Boys’ High School TUIA Awards 2025. This celebration night is about recognising and celebrating Māori and Pasifika achievement and success here at Napier Boys’ High School. Tuia was the name given from Matua Elijah Martin\, which means to weave. It encapsulates the weaving of skills\, aspirations and relationships to strengthen their whāriki and sail for their waka\, in their way-finding journey. With over 150 nominations\, with a dozen special taonga to be awarded this year\, we welcome you to come and join us and celebrate!  \nAwards\nSpecial Guest Speaker\nPerformances
URL:https://www.nbhs.school.nz/event/tuia-2025/
LOCATION:NBHS Henderson Hall\, 31 Chambers St\, Napier\, New Zealand
END:VEVENT
BEGIN:VEVENT
DTSTART;TZID=Pacific/Auckland:20260328T180000
DTEND;TZID=Pacific/Auckland:20260328T230000
DTSTAMP:20260423T100244
CREATED:20260210T184049Z
LAST-MODIFIED:20260210T185402Z
UID:8934-1774720800-1774738800@www.nbhs.school.nz
SUMMARY:1st XV Fundraising Dinner
DESCRIPTION:1st XV Fundraising Dinner\nNapier Boys have been invited to play in a rugby festival in Brisbane in July 2026. To help raise funds\, the parents have put together a fundraising committee and will be hosting a Fundraiser Dinner right here at Napier Boys’ High School in the Henderson Hall! This will be a night of great food\, a live and silent auctions\, a well-known guest speaker\, and plenty of laughs.\nWe’d love for you to be part of it by attending.\nThere are opportunities for donations\, auction items\, and sponsorship of this event currently\, and we are reaching out to all old boys\, business partners\, and the local community for support. All profits from this dinner will support the boys’ fundraising efforts to attend the invitational competition.\nIf you would like to know more\, please contact the head of the parents committee: Ted Jones ted@hdmt.co.nz
URL:https://www.nbhs.school.nz/event/1st-xv-fundraising-dinner/
LOCATION:NBHS Henderson Hall\, 31 Chambers St\, Napier\, New Zealand
END:VEVENT
END:VCALENDAR