BEGIN:VCALENDAR
VERSION:2.0
PRODID:-//Napier Boys&#039; High School - ECPv6.8.3//NONSGML v1.0//EN
CALSCALE:GREGORIAN
METHOD:PUBLISH
X-WR-CALNAME:Napier Boys&#039; High School
X-ORIGINAL-URL:https://www.nbhs.school.nz
X-WR-CALDESC:Events for Napier Boys&#039; High School
REFRESH-INTERVAL;VALUE=DURATION:PT1H
X-Robots-Tag:noindex
X-PUBLISHED-TTL:PT1H
BEGIN:VTIMEZONE
TZID:Pacific/Auckland
BEGIN:STANDARD
TZOFFSETFROM:+1300
TZOFFSETTO:+1200
TZNAME:NZST
DTSTART:20230401T140000
END:STANDARD
BEGIN:DAYLIGHT
TZOFFSETFROM:+1200
TZOFFSETTO:+1300
TZNAME:NZDT
DTSTART:20230923T140000
END:DAYLIGHT
END:VTIMEZONE
BEGIN:VEVENT
DTSTART;TZID=Pacific/Auckland:20231021T090000
DTEND;TZID=Pacific/Auckland:20231022T160000
DTSTAMP:20260423T100329
CREATED:20231009T194846Z
LAST-MODIFIED:20231009T200224Z
UID:7369-1697878800-1697990400@www.nbhs.school.nz
SUMMARY:Model Expo
DESCRIPTION:Model Expo 2023\n\n\n\nDate/Time: Sat 21 – Sun 22 October 9-4pm\n\n\nWhere: Napier Boys High School Gymnasium\, Chambers Street\, Napier\n\n\n\nRemote control trucks in action\nModel displays\nSausage sizzle\, prizes\nModel sales\nFun for all ages\n\nAdult $5- Child $3 – Family $10\n\n\nA fundraiser event for NBHS language trip to Japan 2024. EFTPOS available
URL:https://www.nbhs.school.nz/event/model-expo/
LOCATION:Napier Boys’ High School\, 31 Chambers Street\, Napier\, New Zealand
CATEGORIES:Academic,Cultural,Events
END:VEVENT
BEGIN:VEVENT
DTSTART;TZID=Pacific/Auckland:20231016T180000
DTEND;TZID=Pacific/Auckland:20231016T200000
DTSTAMP:20260423T100329
CREATED:20231008T221724Z
LAST-MODIFIED:20231008T221738Z
UID:7367-1697479200-1697486400@www.nbhs.school.nz
SUMMARY:TUIA Awards
DESCRIPTION:Wednesday 18th October 2023  \n6pm – 8pm  \nNBHS School Hall  \nNau mai haere mai\, welcome to our very own NBHS TUIA Awards 2023. This celebration night is about recognising and celebrating Māori and Pasifika achievement and success here at Napier Boys’ High School. Tuia was the name given from Matua Elijah Martin\, which means to weave. It encapsulates the weaving of skills\, aspirations and relationships to strengthen their whāriki and sail for their waka\, in their way-finding journey. With over 150 nominations\, with a dozen special taonga to be awarded this year\, we welcome you to come and join us and celebrate!  \nIntroduction  \nKarakia/ Mihimihi \nCertificates  \nPasifika Performance  \nCertificates \nGuest Speaker – Dan Waenga  \nKapa Haka Performance  \nTaonga  \nKapa Haka Performance  \nRefreshments 
URL:https://www.nbhs.school.nz/event/tuia-awards/
LOCATION:Napier Boys’ High School\, 31 Chambers Street\, Napier\, New Zealand
CATEGORIES:Academic,Cultural,Sports
END:VEVENT
BEGIN:VEVENT
DTSTART;TZID=Pacific/Auckland:20230425T080000
DTEND;TZID=Pacific/Auckland:20230425T170000
DTSTAMP:20260423T100329
CREATED:20230206T221210Z
LAST-MODIFIED:20230206T221210Z
UID:7042-1682409600-1682442000@www.nbhs.school.nz
SUMMARY:Anzac Day - School Closed
DESCRIPTION:
URL:https://www.nbhs.school.nz/event/anzac-day-school-closed/
END:VEVENT
BEGIN:VEVENT
DTSTART;TZID=Pacific/Auckland:20230407T080000
DTEND;TZID=Pacific/Auckland:20230407T170000
DTSTAMP:20260423T100329
CREATED:20230206T221143Z
LAST-MODIFIED:20230206T221143Z
UID:7040-1680854400-1680886800@www.nbhs.school.nz
SUMMARY:Good Friday - School Closed
DESCRIPTION:
URL:https://www.nbhs.school.nz/event/good-friday-school-closed/
END:VEVENT
END:VCALENDAR